BEGIN:VCALENDAR
VERSION:2.0
PRODID:-//Sabre//Sabre VObject 4.5.8//EN
CALSCALE:GREGORIAN
BEGIN:VEVENT
UID:sabre-vobject-ac9f1d6f-909b-42c7-a42f-db1524be2f9c
DTSTAMP:20260422T143936Z
SUMMARY:F. Mendelssohn-Bartholdy. Der 42. Psalm\, op.42
DESCRIPTION:https://lindau.keb-oberallgaeu.de/ueber-uns/veranstaltungen/f-m
 endelssohn-bartholdy-der-42-psalm-op-42_id325947
DTSTART;TZID=Europe/Berlin:20260423T133000
LOCATION:Maria-Ward-Realschule\, Ludwigstraße 3\, 88131 Lindau (Bodensee)
END:VEVENT
END:VCALENDAR
