BEGIN:VCALENDAR
VERSION:2.0
PRODID:-//Sabre//Sabre VObject 4.5.8//EN
CALSCALE:GREGORIAN
BEGIN:VEVENT
UID:sabre-vobject-ee5599e0-1743-454c-aed1-0095c10532f5
DTSTAMP:20260420T022240Z
SUMMARY:F. Mendelssohn-Bartholdy. Der 42. Psalm\, op.42
DESCRIPTION:https://lindau.keb-oberallgaeu.de/ueber-uns/veranstaltungen/f-m
 endelssohn-bartholdy-der-42-psalm-op-42_id325948
DTSTART;TZID=Europe/Berlin:20260421T183000
LOCATION:Pfarrzentrum St. Josef\, Kemptener Straße 22\, 88131 Lindau (Bode
 nsee)
END:VEVENT
END:VCALENDAR
