BEGIN:VCALENDAR
VERSION:2.0
PRODID:-//Sabre//Sabre VObject 4.5.8//EN
CALSCALE:GREGORIAN
BEGIN:VEVENT
UID:sabre-vobject-a6dc13e3-fd79-4a16-afd4-0bcea8360f6d
DTSTAMP:20260421T115450Z
SUMMARY:"Als Pilger bis zum Ural"
DESCRIPTION:https://lindau.keb-oberallgaeu.de/ueber-uns/veranstaltungen/als
 -pilger-bis-zum-ural_id326832
DTSTART;TZID=Europe/Berlin:20260425T143000
LOCATION:Pfarrstüble\, Kirchweg 7\, 88171 Weiler-Simmerberg
END:VEVENT
END:VCALENDAR
